BEGIN:VCALENDAR
VERSION:2.0
PRODID:-//SportPlan//Event Calendar//EN
CALSCALE:GREGORIAN
BEGIN:VEVENT
UID:b4f97fcc-ef32-4db2-8acb-bd97c72ca709@sportplan.local
DTSTAMP:20260420T204644Z
DTSTART;VALUE=DATE:20260905
DTEND;VALUE=DATE:20260906
SUMMARY:Patagonian International Marathon® – How To Arrive
DESCRIPTION:Official travel logistics page\; how to reach Puerto Natales (base city) from Punta Arenas and Santiago\; bus timetables\, ferry options\; stable event sub-page from nav\; Chile trail running discovery
LOCATION:Puerto Natales / Torres del Paine\, Chile
URL:https://sportplan.vercel.app/de/events/patagonian-international-marathon-how-to-arrive-2026-09-05
END:VEVENT
END:VCALENDAR
