BEGIN:VCALENDAR
VERSION:2.0
PRODID:-//SportPlan//Event Calendar//EN
CALSCALE:GREGORIAN
BEGIN:VEVENT
UID:19988dae-2c73-4bf5-bb63-54850e9d88aa@sportplan.local
DTSTAMP:20260420T192032Z
DTSTART;VALUE=DATE:20260905
DTEND;VALUE=DATE:20260906
SUMMARY:Patagonian International Marathon® 2026 – Fourteenth Edition
DESCRIPTION:Official event website\; Fourteenth edition 5-6 September 2026\; first marathon in Torres del Paine (2012)\; award-winning event (Lonely Planet\, USA Today\, RedBull\, Vogue\, CN Traveler)\; distances: 42K\, 30K\, 21K\, 15K\, 10K over 2 days\; gravel+asphalt routes SW of park\; Chile trail running discovery
LOCATION:Torres del Paine\, Patagonia\, Chile
URL:https://sportplan.vercel.app/de/events/patagonian-international-marathon-2026-fourteenth-edition-2026-09-05
END:VEVENT
END:VCALENDAR
