BEGIN:VCALENDAR
VERSION:2.0
PRODID:-//SportPlan//Event Calendar//EN
CALSCALE:GREGORIAN
BEGIN:VEVENT
UID:9ba3845c-2fe3-4944-b1bc-ac32e1138d25@sportplan.local
DTSTAMP:20260420T192150Z
DTSTART;VALUE=DATE:20260905
DTEND;VALUE=DATE:20260906
SUMMARY:Patagonian International Marathon® 2026 – Calendar of Events
DESCRIPTION:Official 2026 event calendar page\; kit pickup and bus schedule\; Puerto Natales logistical hub\; stable event sub-page from nav menu\; Chile trail running discovery
LOCATION:Torres del Paine\, Patagonia\, Chile
URL:https://sportplan.vercel.app/de/events/patagonian-international-marathon-2026-calendar-of-events-2026-09-05
END:VEVENT
END:VCALENDAR
