BEGIN:VCALENDAR
VERSION:2.0
PRODID:-//SportPlan//Event Calendar//EN
CALSCALE:GREGORIAN
BEGIN:VEVENT
UID:55453b4e-623f-4f2d-b690-7440688130ea@sportplan.local
DTSTAMP:20260420T191845Z
DTSTART;VALUE=DATE:20260423
DTEND;VALUE=DATE:20260424
SUMMARY:Pärnumaa neljapäevak
DESCRIPTION:Pärnumaa neljapäevak is an official amateur weekly orienteering event in Pärnu-Jaagupi\, Estonia on 23 April 2026. The official Estonian Orienteering Federation event page confirms the date\, organizer\, venue\, and the public course types listed as string course and short course. The official Orienteerumisklubi West website publishes the 2026 Pärnumaa orienteerumisneljapäevakud calendar and lists Pärnu-Jaagupi on 23 April as part of its recurring Thursday public series.
LOCATION:Pärnu-Jaagupi\, Põhja-Pärnumaa vald\, Estonia
URL:https://sportplan.vercel.app/de/events/parnumaa-neljapaevak-parnu-jaagupi-2026-04-23
END:VEVENT
END:VCALENDAR
