BEGIN:VCALENDAR
VERSION:2.0
PRODID:-//SportPlan//Event Calendar//EN
CALSCALE:GREGORIAN
BEGIN:VEVENT
UID:262c937d-9efe-402f-b33c-73a04acd0a63@sportplan.local
DTSTAMP:20260420T204552Z
DTSTART;VALUE=DATE:20260608
DTEND;VALUE=DATE:20260609
SUMMARY:Palmital Posadas Trail - Popular
DESCRIPTION:Palmital Posadas Trail - Popular se celebrará en Posadas\, Córdoba\, Andalucía el 8 de junio de 2026. Una cita ideal para disfrutar del ambiente del evento con un recorrido de 13 km y compartir una experiencia deportiva bien organizada. Perfecto tanto para participantes que buscan superarse como para quienes quieren vivir una jornada activa en un entorno especial.
LOCATION:Posadas\, Córdoba\, Andalucía
URL:https://sportplan.vercel.app/de/events/palmital-posadas-trail-popular-posadas-2026-06-08-13k
END:VEVENT
END:VCALENDAR
