BEGIN:VCALENDAR
VERSION:2.0
PRODID:-//SportPlan//Event Calendar//EN
CALSCALE:GREGORIAN
BEGIN:VEVENT
UID:a7d1e3b9-cf13-46b7-beb3-e2e9270309b4@sportplan.local
DTSTAMP:20260420T204409Z
DTSTART;VALUE=DATE:20261018
DTEND;VALUE=DATE:20261019
SUMMARY:Ourém-Fátima Granfondo 2026
DESCRIPTION:Ourém-Fátima Granfondo 2026 is an official amateur road cycling granfondo in Ourém\, Portugal on 18 October 2026. The official organizer page describes the new event as the final round of the Superprestígio amateur cycling series\, with 68 km minifondo\, 101 km mediofondo and 137 km granfondo routes visiting Fátima\, Agroal\, Freixianda\, Pêras Ruivas and the medieval castle of Ourém.
LOCATION:Ourém\, Santarém\, Portugal
URL:https://sportplan.vercel.app/de/events/ourem-fatima-granfondo-2026-ourem-2026-10-18
END:VEVENT
END:VCALENDAR
