BEGIN:VCALENDAR
VERSION:2.0
PRODID:-//SportPlan//Event Calendar//EN
CALSCALE:GREGORIAN
BEGIN:VEVENT
UID:699bc0a3-7d17-4614-988a-b8f179275e72@sportplan.local
DTSTAMP:20260421T005543Z
DTSTART;VALUE=DATE:20260912
DTEND;VALUE=DATE:20260913
SUMMARY:Oslo Marathon
DESCRIPTION:Oslo Marathon arrangeres 12. september 2026 i Norway og byr på en godt organisert sportsopplevelse for deltakere på ulike nivåer. Arrangementet kombinerer fysisk utfordring\, god stemning og muligheten til å oppleve området. Dette gjør løpet aktuelt både for dem som vil prestere og for dem som ønsker et nytt mål i sesongen.
LOCATION:Norway
URL:https://sportplan.vercel.app/de/events/oslo-marathon-2026-09-12
END:VEVENT
END:VCALENDAR
