BEGIN:VCALENDAR
VERSION:2.0
PRODID:-//SportPlan//Event Calendar//EN
CALSCALE:GREGORIAN
BEGIN:VEVENT
UID:60dc96e7-b117-4b71-b176-7e673d0b2bbd@sportplan.local
DTSTAMP:20260421T003935Z
DTSTART;VALUE=DATE:20260629
DTEND;VALUE=DATE:20260630
SUMMARY:Ortigosa Trail - Corta
DESCRIPTION:
LOCATION:Ortigosa de Cameros\, La Rioja\, La Rioja
URL:https://sportplan.vercel.app/de/events/ortigosa-trail-corta-ortigosa-de-cameros-2026-06-29-16k
END:VEVENT
END:VCALENDAR
