BEGIN:VCALENDAR
VERSION:2.0
PRODID:-//SportPlan//Event Calendar//EN
CALSCALE:GREGORIAN
BEGIN:VEVENT
UID:16290577-0a4e-4975-89dc-011470e4cb94@sportplan.local
DTSTAMP:20260420T225941Z
DTSTART;VALUE=DATE:20260429
DTEND;VALUE=DATE:20260430
SUMMARY:Orienteerumispäevak Pargijooksud
DESCRIPTION:Orienteerumispäevak Pargijooksud is an official amateur weekly orienteering event in Tabasalu\, Estonia on 29 April 2026. The official Estonian Orienteering Federation event page confirms the date\, Tabasalu venue\, organizer Nõmme\, and the official organizer info page. The official OK Nõmme site describes Pargijooksud as a weekly public participation series held from April to September in Tallinn and Harjumaa with both running and orienteering course options.
LOCATION:Tabasalu\, Harku vald\, Estonia
URL:https://sportplan.vercel.app/de/events/orienteerumispaevak-pargijooksud-tabasalu-2026-04-29
END:VEVENT
END:VCALENDAR
