BEGIN:VCALENDAR
VERSION:2.0
PRODID:-//SportPlan//Event Calendar//EN
CALSCALE:GREGORIAN
BEGIN:VEVENT
UID:237d384b-21db-4e58-837d-744f8271371c@sportplan.local
DTSTAMP:20260420T233850Z
DTSTART;VALUE=DATE:20270301
DTEND;VALUE=DATE:20270302
SUMMARY:Öppet Spår Monday 90 2027
DESCRIPTION:Öppet Spår Monday 90 is Vasaloppet’s open 90 km mass-participation ski race from Sälen to Mora. The official organizer page lists the 2027 edition on 1 March 2027 as a freestyle event with both skating lane and classic tracks\, open to amateur skiers from the year they turn 17.
LOCATION:Mora\, Dalarna County\, Sweden
URL:https://sportplan.vercel.app/de/events/oppet-spar-monday-90-2027-mora-2027-03-01
END:VEVENT
END:VCALENDAR
