BEGIN:VCALENDAR
VERSION:2.0
PRODID:-//SportPlan//Event Calendar//EN
CALSCALE:GREGORIAN
BEGIN:VEVENT
UID:9b0e361d-f1ab-48f9-8363-fcbdb6921f80@sportplan.local
DTSTAMP:20260420T173826Z
DTSTART;VALUE=DATE:20260315
DTEND;VALUE=DATE:20260316
SUMMARY:Omagh Duathlon 2026
DESCRIPTION:The official Omagh Triathlon Club race page lists Omagh Duathlon for Sunday 15 March 2026 at 09:00. It says the race is back on the Triathlon Ireland calendar for 2026\, based at Healy Park in Omagh\, and offers a sprint-distance format of 3 km run\, 18 km cycle\, and 3 km run for amateur participants.
LOCATION:Healy Park\, Omagh
URL:https://sportplan.vercel.app/de/events/omagh-duathlon-2026-omagh-2026-03-15
END:VEVENT
END:VCALENDAR
