BEGIN:VCALENDAR
VERSION:2.0
PRODID:-//SportPlan//Event Calendar//EN
CALSCALE:GREGORIAN
BEGIN:VEVENT
UID:f8bf87d9-0ba0-4c19-9559-0fd900e7d6b5@sportplan.local
DTSTAMP:20260420T173940Z
DTSTART;VALUE=DATE:20260501
DTEND;VALUE=DATE:20260504
SUMMARY:Oh Meu Deus By Utmb
DESCRIPTION:Oh Meu Deus By Utmb acontece em 01/05/2026\, em Seia\, PT\, com uma distância oficial definida pela organização. É uma ótima oportunidade para aproveitar o ambiente do evento\, assumir um desafio esportivo e viver um dia ativo em um cenário especial.
LOCATION:Seia
URL:https://sportplan.vercel.app/de/events/oh-meu-deus-by-utmb-seia-2026-05-01
END:VEVENT
END:VCALENDAR
