BEGIN:VCALENDAR
VERSION:2.0
PRODID:-//SportPlan//Event Calendar//EN
CALSCALE:GREGORIAN
BEGIN:VEVENT
UID:bbf1446c-bda3-438e-9eae-ebb440f8d523@sportplan.local
DTSTAMP:20260420T233212Z
DTSTART;VALUE=DATE:20261030
DTEND;VALUE=DATE:20261101
SUMMARY:Oh Meu Deus By UTMB 100K
DESCRIPTION:Oh Meu Deus By UTMB 100K acontece em 30 de outubro de 2026\, em Sintra\, Lisboa. É uma boa opção para quem quer aproveitar o evento ao vivo e organizar o dia com antecedência. O local previsto fica a cerca de 100 km\, por isso vale a pena confirmar acessos\, horários e estrutura antes de sair.
LOCATION:Sintra\, Lisboa
URL:https://sportplan.vercel.app/de/events/oh-meu-deus-by-utmb-100k-sintra-2026-10-30
END:VEVENT
END:VCALENDAR
