BEGIN:VCALENDAR
VERSION:2.0
PRODID:-//SportPlan//Event Calendar//EN
CALSCALE:GREGORIAN
BEGIN:VEVENT
UID:af99039c-a972-49f6-a041-a02faeeb175c@sportplan.local
DTSTAMP:20260420T191758Z
DTSTART;VALUE=DATE:20261017
DTEND;VALUE=DATE:20261019
SUMMARY:OCEANMAN El Salvador 2026
DESCRIPTION:OCEANMAN El Salvador 2026 is an amateur open-water swimming weekend at Lago de Ilopango in El Salvador. The official event page lists 10 km\, 5 km\, 2 km\, kids\, team\, and fins races across 17 and 18 October 2026\, making it a public participation event for regular swimmers\, not a pro-only competition.
LOCATION:Lago de Ilopango
URL:https://sportplan.vercel.app/de/events/oceanman-el-salvador-2026-2026-10-17
END:VEVENT
END:VCALENDAR
