BEGIN:VCALENDAR
VERSION:2.0
PRODID:-//SportPlan//Event Calendar//EN
CALSCALE:GREGORIAN
BEGIN:VEVENT
UID:fbaad51c-80f1-4df1-bec5-95240b6ab20b@sportplan.local
DTSTAMP:20260420T204600Z
DTSTART;VALUE=DATE:20260920
DTEND;VALUE=DATE:20260921
SUMMARY:Novosadski triatlon 2026
DESCRIPTION:Novosadski triatlon 2026 is an official Serbian Triathlon Federation calendar race in Novi Sad\, Serbia on 20 September 2026. The federation event page lists it as a Serbia Cup triathlon in Novi Sad and names TK Dynamic as the official organizer\, with direct organizer contact and official club website published for participant follow-up.
LOCATION:Novi Sad
URL:https://sportplan.vercel.app/de/events/novosadski-triatlon-novi-sad-2026-09-20
END:VEVENT
END:VCALENDAR
