BEGIN:VCALENDAR
VERSION:2.0
PRODID:-//SportPlan//Event Calendar//EN
CALSCALE:GREGORIAN
BEGIN:VEVENT
UID:ffb45e3a-f016-4641-89a1-824fa9e89d5a@sportplan.local
DTSTAMP:20260421T010437Z
DTSTART;VALUE=DATE:20260613
DTEND;VALUE=DATE:20260614
SUMMARY:Nordsjørittet 2026 – Informasjon
DESCRIPTION:Official nordsjorittet.no information page\; confirmed 2026 edition\; seedingritt for Birkebeinerrittet\; event info including luggage return Egersund→Sandnes/NRB\; stable sub-page confirmed 200 OK
LOCATION:Sandnes / Egersund\, Rogaland\, Norway
URL:https://sportplan.vercel.app/de/events/nordsj-rittet-2026-informasjon-2026-06-13
END:VEVENT
END:VCALENDAR
