BEGIN:VCALENDAR
VERSION:2.0
PRODID:-//SportPlan//Event Calendar//EN
CALSCALE:GREGORIAN
BEGIN:VEVENT
UID:b14e05b8-3397-4cd4-af99-7336577c3eea@sportplan.local
DTSTAMP:20260421T005550Z
DTSTART;VALUE=DATE:20260620
DTEND;VALUE=DATE:20260621
SUMMARY:Nordmarka Forest Marathon
DESCRIPTION:Nordmarka Forest Marathon arrangeres 20 juni 2026 i Oslo\, Norway og gir en fin mulighet til å oppleve stemningen rundt arrangementet på stedet. Dette passer både for erfarne deltakere og for dem som ønsker en ny utfordring.
LOCATION:Oslo\, Norway
URL:https://sportplan.vercel.app/de/events/nordmarka-forest-marathon-2026-06-20
END:VEVENT
END:VCALENDAR
