BEGIN:VCALENDAR
VERSION:2.0
PRODID:-//SportPlan//Event Calendar//EN
CALSCALE:GREGORIAN
BEGIN:VEVENT
UID:87397d76-24c8-4369-a9c9-25149c5e0a23@sportplan.local
DTSTAMP:20260420T204138Z
DTSTART;VALUE=DATE:20260606
DTEND;VALUE=DATE:20260607
SUMMARY:Night Wroclaw Half Marathon
DESCRIPTION:
LOCATION:Wrocław\, Poland
URL:https://sportplan.vercel.app/de/events/night-wroclaw-half-marathon-2026-06-06
END:VEVENT
END:VCALENDAR
