BEGIN:VCALENDAR
VERSION:2.0
PRODID:-//SportPlan//Event Calendar//EN
CALSCALE:GREGORIAN
BEGIN:VEVENT
UID:75fff6b1-970c-4192-bdc8-61e58dc0eb9c@sportplan.local
DTSTAMP:20260420T204708Z
DTSTART;VALUE=DATE:20261010
DTEND;VALUE=DATE:20261011
SUMMARY:Navarino Challenge 10K 2026
DESCRIPTION:Messinia Challenge 2026 is the official sports festival in Messinia\, Greece\, presented on the organizer-run Messinia Challenge site. The official site now serves the former Navarino Challenge domain and provides the participant-facing event home for the 2026 edition.
LOCATION:Costa Navarino\, Peloponnese
URL:https://sportplan.vercel.app/de/events/navarino-challenge-10k-2026-costa-navarino-2026-10-10
END:VEVENT
END:VCALENDAR
