BEGIN:VCALENDAR
VERSION:2.0
PRODID:-//SportPlan//Event Calendar//EN
CALSCALE:GREGORIAN
BEGIN:VEVENT
UID:ad0ae00a-def7-4c5e-86ba-07fef0b7d971@sportplan.local
DTSTAMP:20260421T005514Z
DTSTART;VALUE=DATE:20270305
DTEND;VALUE=DATE:20270306
SUMMARY:Nattvasan 30 2027
DESCRIPTION:Nattvasan 30 is an official amateur cross-country ski race during Vasaloppet's winter week. The official Vasaloppet page lists the 2027 event on 5 March 2027 as a 30 km night race from Oxberg to Mora\, open to individual entrants or pairs\, with freestyle format and public participation from age 11.
LOCATION:Oxberg to Mora\, Dalarna County\, Sweden
URL:https://sportplan.vercel.app/de/events/nattvasan-30-2027
END:VEVENT
END:VCALENDAR
