BEGIN:VCALENDAR
VERSION:2.0
PRODID:-//SportPlan//Event Calendar//EN
CALSCALE:GREGORIAN
BEGIN:VEVENT
UID:8d0a2258-cde9-44b4-b166-a563274d8b67@sportplan.local
DTSTAMP:20260420T221436Z
DTSTART;VALUE=DATE:20260415
DTEND;VALUE=DATE:20260416
SUMMARY:NæturFossavatnið 35 km 2026
DESCRIPTION:NæturFossavatnið 35 km is the official 35 km night race of Fossavatnsgangan in Ísafjörður\, Iceland\, on 15 April 2026. The official organizer page describes it as an individual amateur-participation cross-country ski race at 22:00 in free style\, with competitors skiing by headlamp on a night course from the Seljalandsdalur ski area.
LOCATION:Seljalandsdalur\, Ísafjörður\, Iceland
URL:https://sportplan.vercel.app/de/events/naeturfossavatnid-35km-2026-04-15
END:VEVENT
END:VCALENDAR
