BEGIN:VCALENDAR
VERSION:2.0
PRODID:-//SportPlan//Event Calendar//EN
CALSCALE:GREGORIAN
BEGIN:VEVENT
UID:b481a95c-01d7-4944-80d0-9f7a74757165@sportplan.local
DTSTAMP:20260420T204442Z
DTSTART;VALUE=DATE:20260620
DTEND;VALUE=DATE:20260621
SUMMARY:Nachtmammut Copenhagen 2026
DESCRIPTION:Nachtmammut Copenhagen 2026 is an official amateur walking-hiking participation event in Copenhagen\, Denmark on 20 June 2026. The official Nachtmammut Kopenhagen page confirms the 2026 date\, start and finish at Amager Strandvej 274 in Copenhagen\, and open 30 km and 50 km night-hike formats for regular participants.
LOCATION:Copenhagen\, Capital Region of Denmark
URL:https://sportplan.vercel.app/de/events/nachtmammut-copenhagen-2026-2026-06-20
END:VEVENT
END:VCALENDAR
