BEGIN:VCALENDAR
VERSION:2.0
PRODID:-//SportPlan//Event Calendar//EN
CALSCALE:GREGORIAN
BEGIN:VEVENT
UID:c2c90ecb-fffe-4442-bfa6-57d7c0e8d84d@sportplan.local
DTSTAMP:20260420T204223Z
DTSTART;VALUE=DATE:20260613
DTEND;VALUE=DATE:20260614
SUMMARY:Nachtmammut Berlin 2026
DESCRIPTION:Nachtmammut Berlin 2026 is an official amateur walking-hiking participation event in Berlin\, Germany on 13 June 2026. The official Nachtmammut Berlin page confirms the date\, start and finish at Zentraler Festplatz on Kurt-Schumacher-Damm\, and open 30 km and 50 km night-hike formats for regular participants.
LOCATION:Berlin
URL:https://sportplan.vercel.app/de/events/nachtmammut-berlin-2026-2026-06-13
END:VEVENT
END:VCALENDAR
