BEGIN:VCALENDAR
VERSION:2.0
PRODID:-//SportPlan//Event Calendar//EN
CALSCALE:GREGORIAN
BEGIN:VEVENT
UID:d7ac5938-7d75-452b-b3a4-c77a73eaff92@sportplan.local
DTSTAMP:20260420T204803Z
DTSTART;VALUE=DATE:20260425
DTEND;VALUE=DATE:20260426
SUMMARY:Muenster Metric Century Bicycle Rally
DESCRIPTION:Official Sacred Heart Alumni Muenster Bicycle Rally page for the annual cycling rally in Muenster\, Texas.
LOCATION:Muenster
URL:https://sportplan.vercel.app/de/events/muenster-metric-century-bicycle-rally-muenster-2026-04-25
END:VEVENT
END:VCALENDAR
