BEGIN:VCALENDAR
VERSION:2.0
PRODID:-//SportPlan//Event Calendar//EN
CALSCALE:GREGORIAN
BEGIN:VEVENT
UID:0e05bf39-1894-4b2f-969e-95e0167c5710@sportplan.local
DTSTAMP:20260420T174051Z
DTSTART;VALUE=DATE:20260523
DTEND;VALUE=DATE:20260524
SUMMARY:Mozart100 By UTMB
DESCRIPTION:Mozart100 By UTMB findet am 23 Mai 2026 in Salzburgo statt. Die Veranstaltung bietet eine starke Atmosphäre und eine gute Gelegenheit\, das Erlebnis mit anderen Teilnehmenden zu teilen. Eine gute Wahl für alle\, die sich ein klares Saisonziel setzen und einen sportlichen Tag in besonderer Umgebung erleben möchten.
LOCATION:Salzburgo
URL:https://sportplan.vercel.app/de/events/mozart100-by-utmb-salzburgo-2026-05-23
END:VEVENT
END:VCALENDAR
