BEGIN:VCALENDAR
VERSION:2.0
PRODID:-//SportPlan//Event Calendar//EN
CALSCALE:GREGORIAN
BEGIN:VEVENT
UID:3ff1bc7b-58d6-4932-b1f2-647d13be69b3@sportplan.local
DTSTAMP:20260420T204117Z
DTSTART;VALUE=DATE:20270314
DTEND;VALUE=DATE:20270315
SUMMARY:Mooloolaba Aquabike
DESCRIPTION:Official aquabike event page.
LOCATION:Mooloolaba\, Queensland\, Australia
URL:https://sportplan.vercel.app/de/events/mooloolaba-aquabike-2027-03-14
END:VEVENT
END:VCALENDAR
