BEGIN:VCALENDAR
VERSION:2.0
PRODID:-//SportPlan//Event Calendar//EN
CALSCALE:GREGORIAN
BEGIN:VEVENT
UID:50327e67-de1a-472a-aa12-9103335d1344@sportplan.local
DTSTAMP:20260421T010136Z
DTSTART;VALUE=DATE:20261024
DTEND;VALUE=DATE:20261026
SUMMARY:Monsal Trail October Half Marathon & 10k Weekend
DESCRIPTION:
LOCATION:Derbyshire Dales
URL:https://sportplan.vercel.app/de/events/monsal-trail-october-half-marathon-10k-weekend-derbyshire-dales-2026-10-24
END:VEVENT
END:VCALENDAR
