BEGIN:VCALENDAR
VERSION:2.0
PRODID:-//SportPlan//Event Calendar//EN
CALSCALE:GREGORIAN
BEGIN:VEVENT
UID:4d244d79-5ad9-464b-9f35-f121405687ef@sportplan.local
DTSTAMP:20260420T174238Z
DTSTART;VALUE=DATE:20260315
DTEND;VALUE=DATE:20260316
SUMMARY:MetaSprint Duathlon 2026
DESCRIPTION:MetaSprint Duathlon 2026 is the second race of the MetaSprint Series in Singapore. The official event page presents it as a run-bike-run race at F1 Village with Sprint\, XL\, Discovery\, Youth\, Kids and Fun Kids formats for athletes from beginners to experienced racers.
LOCATION:F1 Village
URL:https://sportplan.vercel.app/de/events/metasprint-duathlon-2026-f1-village-2026-03-15
END:VEVENT
END:VCALENDAR
