BEGIN:VCALENDAR
VERSION:2.0
PRODID:-//SportPlan//Event Calendar//EN
CALSCALE:GREGORIAN
BEGIN:VEVENT
UID:93a924b8-d2be-419a-b8c6-748c1025b8d2@sportplan.local
DTSTAMP:20260421T010140Z
DTSTART;VALUE=DATE:20260808
DTEND;VALUE=DATE:20260809
SUMMARY:Meridian Hydro Half Marathon - Te Anau - New Zealand
DESCRIPTION:Meridian Hydro Half Marathon - Te Anau - New Zealand is scheduled for August 8\, 2026 in Te Anau. It offers a great opportunity to enjoy a well-organized sporting event with a strong atmosphere and an engaging course. Its accessible format and attractive setting make it a solid option for a wide range of participants.
LOCATION:Te Anau
URL:https://sportplan.vercel.app/de/events/meridian-hydro-half-marathon-te-anau-new-zealand-te-anau-2026-08-08
END:VEVENT
END:VCALENDAR
