BEGIN:VCALENDAR
VERSION:2.0
PRODID:-//SportPlan//Event Calendar//EN
CALSCALE:GREGORIAN
BEGIN:VEVENT
UID:50c15331-330a-4f82-90fa-e9a07619dd28@sportplan.local
DTSTAMP:20260420T204815Z
DTSTART;VALUE=DATE:20260808
DTEND;VALUE=DATE:20260810
SUMMARY:Megamarsch Hamburg bei Nacht 2026
DESCRIPTION:Megamarsch Hamburg bei Nacht 2026 is an official amateur walking-hiking participation event in Hamburg\, Germany on 8-9 August 2026. The official Megamarsch Hamburg bei Nacht page confirms a 50 km in 12 hours night-hike format\, start and finish at Elbpark Entenwerder in Hamburg-Rothenburgsort\, and open ticketed participation for regular athletes.
LOCATION:Hamburg
URL:https://sportplan.vercel.app/de/events/megamarsch-hamburg-bei-nacht-2026-2026-08-08
END:VEVENT
END:VCALENDAR
