BEGIN:VCALENDAR
VERSION:2.0
PRODID:-//SportPlan//Event Calendar//EN
CALSCALE:GREGORIAN
BEGIN:VEVENT
UID:b47c88ab-9678-4986-a92b-a90d80401326@sportplan.local
DTSTAMP:20260420T204843Z
DTSTART;VALUE=DATE:20260704
DTEND;VALUE=DATE:20260706
SUMMARY:Mediterránea Triatlón Castellón
DESCRIPTION:Mediterránea Triatlón Castellón se celebrará el 4 de julio de 2026 en Castelló de la Plana / Castellón de la Plana. Es una buena cita para participantes que buscan una experiencia deportiva bien organizada y un ambiente motivador. Consulta la información oficial del evento para conocer horarios\, recorridos y detalles logísticos.
LOCATION:Castelló de la Plana / Castellón de la Plana
URL:https://sportplan.vercel.app/de/events/mediterranea-triatlon-castellon-castello-de-la-plana-castellon-de-la-plana-2026-07-04
END:VEVENT
END:VCALENDAR
