BEGIN:VCALENDAR
VERSION:2.0
PRODID:-//SportPlan//Event Calendar//EN
CALSCALE:GREGORIAN
BEGIN:VEVENT
UID:dc69c1ea-8e6c-421b-92f2-29fa98421c14@sportplan.local
DTSTAMP:20260420T204609Z
DTSTART;VALUE=DATE:20261025
DTEND;VALUE=DATE:20261026
SUMMARY:Media Maratón de Huelva
DESCRIPTION:Media Maratón de Huelva se celebrará el 25 de octubre de 2026 en Huelva\, Huelva\, Andalucía\, reuniendo a participantes que buscan una jornada deportiva bien organizada. La prueba propone un recorrido de 21 km que combina reto y disfrute. Es una excelente oportunidad para disfrutar del ambiente local\, marcarse un objetivo de temporada y vivir el evento con buena energía.
LOCATION:Huelva\, Huelva\, Andalucía
URL:https://sportplan.vercel.app/de/events/media-maraton-de-huelva-huelva-2026-10-25-21k
END:VEVENT
END:VCALENDAR
