BEGIN:VCALENDAR
VERSION:2.0
PRODID:-//SportPlan//Event Calendar//EN
CALSCALE:GREGORIAN
BEGIN:VEVENT
UID:a57ae083-11e4-4136-abc3-861d2fb4a5de@sportplan.local
DTSTAMP:20260420T204709Z
DTSTART;VALUE=DATE:20261222
DTEND;VALUE=DATE:20261223
SUMMARY:Media Maratón Ciudad de Tacoronte
DESCRIPTION:Media Maratón Ciudad de Tacoronte se celebrará el 22 de diciembre de 2026 en Tacoronte\, Tenerife\, Canarias. Es una buena cita para quienes quieren vivir el ambiente del evento en directo y planificar la jornada con antelación. La sede prevista está a unos 21 km\, así que conviene revisar accesos\, horarios y servicios antes de salir.
LOCATION:Tacoronte\, Tenerife\, Canarias
URL:https://sportplan.vercel.app/de/events/media-maraton-ciudad-de-tacoronte-tacoronte-2026-12-22-21k
END:VEVENT
END:VCALENDAR
