BEGIN:VCALENDAR
VERSION:2.0
PRODID:-//SportPlan//Event Calendar//EN
CALSCALE:GREGORIAN
BEGIN:VEVENT
UID:3436432f-1354-4132-87f0-012989ecd357@sportplan.local
DTSTAMP:20260420T192049Z
DTSTART;VALUE=DATE:20260906
DTEND;VALUE=DATE:20260907
SUMMARY:Media Maratón de Buenos Aires 21K 2026
DESCRIPTION:Media Maratón de Buenos Aires 21K 2026 se celebra en Buenos Aires\, Buenos Aires el 6 de septiembre de 2026\, reuniendo a los participantes para una jornada deportiva con gran ambiente. El recorrido cubre aproximadamente 21.1 km. Se espera una experiencia bien organizada\, un pelotón motivado y una excelente atmósfera el día del evento.
LOCATION:Buenos Aires\, Buenos Aires
URL:https://sportplan.vercel.app/de/events/media-marat-n-de-buenos-aires-21k-2026-buenos-aires-2026-09-06
END:VEVENT
END:VCALENDAR
