BEGIN:VCALENDAR
VERSION:2.0
PRODID:-//SportPlan//Event Calendar//EN
CALSCALE:GREGORIAN
BEGIN:VEVENT
UID:b99cd912-de1d-4cc1-8b2c-1d8d1940faad@sportplan.local
DTSTAMP:20260420T204649Z
DTSTART;VALUE=DATE:20260906
DTEND;VALUE=DATE:20260907
SUMMARY:Medellín Marathon 2026
DESCRIPTION:Medellín Marathon 2026 se celebra en Medellín\, Antioquia el 6 de septiembre de 2026\, reuniendo a los participantes para una jornada deportiva con gran ambiente. El recorrido cubre aproximadamente 42.2 km. Se espera una experiencia bien organizada\, un pelotón motivado y una excelente atmósfera el día del evento.
LOCATION:Medellín\, Antioquia
URL:https://sportplan.vercel.app/de/events/medell-n-marathon-2026-medell-n-2026-09-06
END:VEVENT
END:VCALENDAR
