BEGIN:VCALENDAR
VERSION:2.0
PRODID:-//SportPlan//Event Calendar//EN
CALSCALE:GREGORIAN
BEGIN:VEVENT
UID:f4d3a6ae-fde2-478c-922c-2076ce139588@sportplan.local
DTSTAMP:20260421T001534Z
DTSTART;VALUE=DATE:20260704
DTEND;VALUE=DATE:20260705
SUMMARY:Mds EDP Desafiosomiedo
DESCRIPTION:Mds EDP Desafiosomiedo se celebrará el 4 de julio de 2026 en Pola de Somiedo\, Asturias\, Asturias. Es una buena cita para participantes que buscan una experiencia deportiva bien organizada y un ambiente motivador. El recorrido cubre aproximadamente 50 km. Consulta la información oficial del evento para conocer horarios\, recorridos y detalles logísticos.
LOCATION:Pola de Somiedo\, Asturias\, Asturias
URL:https://sportplan.vercel.app/de/events/mds-edp-desafiosomiedo-pola-de-somiedo-2026-07-04-50k
END:VEVENT
END:VCALENDAR
