BEGIN:VCALENDAR
VERSION:2.0
PRODID:-//SportPlan//Event Calendar//EN
CALSCALE:GREGORIAN
BEGIN:VEVENT
UID:32ea3315-5cbe-43bf-8644-65a294622bf2@sportplan.local
DTSTAMP:20260420T204136Z
DTSTART;VALUE=DATE:20260802
DTEND;VALUE=DATE:20260803
SUMMARY:McDONALD'S HALF MARATHON
DESCRIPTION:MCDONALD'S HALF MARATHON Start Time: 7:15am Recommended Arrival Time: 6:15am Start/Finish Line: Alexandra Pde\, Alexandra Headland Minimum Age: 14 What is included in your entry fee: Race bib (personalised up until 22 June 2026)\, Timing tag\, Finishers medal and Event tee-shirt (subject to availability) - check sizes here. Cut-off Times: There…
LOCATION:Sunshine Coast\, Queensland\, Australia
URL:https://sportplan.vercel.app/de/events/mcdonald-s-half-marathon-2026-08-02
END:VEVENT
END:VCALENDAR
