BEGIN:VCALENDAR
VERSION:2.0
PRODID:-//SportPlan//Event Calendar//EN
CALSCALE:GREGORIAN
BEGIN:VEVENT
UID:c0a12684-bf47-4463-98dc-60a2d93f79cb@sportplan.local
DTSTAMP:20260420T204532Z
DTSTART;VALUE=DATE:20261025
DTEND;VALUE=DATE:20261026
SUMMARY:Mcc Marseille-Cassis 20K 2026
DESCRIPTION:
LOCATION:Marseille\, Bouches-du-Rhône
URL:https://sportplan.vercel.app/de/events/mcc-marseille-cassis-20k-2026-marseille-2026-10-25
END:VEVENT
END:VCALENDAR
