BEGIN:VCALENDAR
VERSION:2.0
PRODID:-//SportPlan//Event Calendar//EN
CALSCALE:GREGORIAN
BEGIN:VEVENT
UID:47253ee5-3934-41d0-8693-b365812a9f78@sportplan.local
DTSTAMP:20260420T174134Z
DTSTART;VALUE=DATE:20260501
DTEND;VALUE=DATE:20260502
SUMMARY:Mazucator Trail 25K
DESCRIPTION:Mazucator Trail 25K se celebrará el 1 de mayo de 2026 en Villa de Mazo\, La Palma\, Canarias. Es una buena opción para quienes buscan sumar una experiencia deportiva bien organizada sobre una distancia de unos 25 km. Ideal tanto para participantes habituales como para quienes quieren marcarse un nuevo reto en el calendario.
LOCATION:Villa de Mazo\, La Palma\, Canarias
URL:https://sportplan.vercel.app/de/events/mazucator-trail-25k-villa-de-mazo-2026-05-01-25k
END:VEVENT
END:VCALENDAR
