BEGIN:VCALENDAR
VERSION:2.0
PRODID:-//SportPlan//Event Calendar//EN
CALSCALE:GREGORIAN
BEGIN:VEVENT
UID:4e0e5365-e97e-4c90-b9bc-a0d52665d48d@sportplan.local
DTSTAMP:20260420T204523Z
DTSTART;VALUE=DATE:20260921
DTEND;VALUE=DATE:20260922
SUMMARY:Marxa a Peu Entreparets
DESCRIPTION:Marxa a Peu Entreparets se celebra el 21 de septiembre de 2026 en Vilafranca\, Castelló\, Comunidad Valenciana. Es una cita perfecta para vivir una jornada deportiva con un recorrido de 25 km y un ambiente ideal para disfrutar del día de carrera. Ideal tanto para quienes buscan marca como para quienes quieren disfrutar del recorrido y del ambiente del evento.
LOCATION:Vilafranca\, Castelló\, Comunidad Valenciana
URL:https://sportplan.vercel.app/de/events/marxa-a-peu-entreparets-vilafranca-2026-09-21-25k
END:VEVENT
END:VCALENDAR
