BEGIN:VCALENDAR
VERSION:2.0
PRODID:-//SportPlan//Event Calendar//EN
CALSCALE:GREGORIAN
BEGIN:VEVENT
UID:8fb2c9b8-72b4-4e79-a93c-ab43728b5c6c@sportplan.local
DTSTAMP:20260420T191813Z
DTSTART;VALUE=DATE:20261025
DTEND;VALUE=DATE:20261026
SUMMARY:Marseille-Cassis 20K 2026
DESCRIPTION:
LOCATION:Marseille\, Bouches-du-Rhône
URL:https://sportplan.vercel.app/de/events/marseille-cassis-20k-2026-marseille-2026-10-25
END:VEVENT
END:VCALENDAR
