BEGIN:VCALENDAR
VERSION:2.0
PRODID:-//SportPlan//Event Calendar//EN
CALSCALE:GREGORIAN
BEGIN:VEVENT
UID:4b9ec6b0-02f2-475a-9005-2e5cbb87af38@sportplan.local
DTSTAMP:20260420T221621Z
DTSTART;VALUE=DATE:20270131
DTEND;VALUE=DATE:20270201
SUMMARY:Marcialonga Light 45 km 2027
DESCRIPTION:Marcialonga Light 45 km 2027 is an official amateur cross-country ski marathon in Trentino\, Italy on 31 January 2027. The official Marcialonga ski page states the 31.01.2027 edition date and confirms the Light participation route as the 45 km variant finishing in Predazzo within the same Marcialonga classic-technique event weekend.
LOCATION:Moena to Predazzo\, Trentino-Alto Adige
URL:https://sportplan.vercel.app/de/events/marcialonga-light-45-km-2027-moena-predazzo-2027-01-31
END:VEVENT
END:VCALENDAR
