BEGIN:VCALENDAR
VERSION:2.0
PRODID:-//SportPlan//Event Calendar//EN
CALSCALE:GREGORIAN
BEGIN:VEVENT
UID:cf13e40c-84b6-4cbd-b20d-618ca1c91a82@sportplan.local
DTSTAMP:20260420T204800Z
DTSTART;VALUE=DATE:20260510
DTEND;VALUE=DATE:20260511
SUMMARY:Marcha Cicloturista la Vuelta Comunitat
DESCRIPTION:Marcha Cicloturista la Vuelta Comunitat se celebra en Castelló de la Plana el 10 de mayo de 2026\, reuniendo a corredores en un ambiente lleno de energía. Ya sea para buscar tu mejor marca o para disfrutar del recorrido de 140 km\, es una gran oportunidad para vivir la carrera en Castelló de la Plana.
LOCATION:Castelló de la Plana
URL:https://sportplan.vercel.app/de/events/marcha-cicloturista-la-vuelta-comunitat-castell-de-la-plana-2026-05-10
END:VEVENT
END:VCALENDAR
