BEGIN:VCALENDAR
VERSION:2.0
PRODID:-//SportPlan//Event Calendar//EN
CALSCALE:GREGORIAN
BEGIN:VEVENT
UID:759be4d1-859d-46d5-a36b-29e8fb398aa8@sportplan.local
DTSTAMP:20260420T191656Z
DTSTART;VALUE=DATE:20261121
DTEND;VALUE=DATE:20261122
SUMMARY:Maratona Monumental de Brasília
DESCRIPTION:Maratona Monumental de Brasília acontece em 21 novembro 2026\, em Brasília\, Brazil\, sendo uma ótima oportunidade para viver o evento de perto e aproveitar a atmosfera do dia. Seja para participar ou apenas curtir a experiência\, este encontro combina percurso\, energia e um ambiente ideal para partilhar o momento com outros participantes.
LOCATION:Brasília\, Brazil
URL:https://sportplan.vercel.app/de/events/maratona-monumental-de-brasilia-2026-11-21
END:VEVENT
END:VCALENDAR
