BEGIN:VCALENDAR
VERSION:2.0
PRODID:-//SportPlan//Event Calendar//EN
CALSCALE:GREGORIAN
BEGIN:VEVENT
UID:c546a05a-b109-4d32-8303-efb4cd580340@sportplan.local
DTSTAMP:20260420T192015Z
DTSTART;VALUE=DATE:20260603
DTEND;VALUE=DATE:20260604
SUMMARY:Maratona do Rio 2026 – Travel Agencies
DESCRIPTION:Official Maratona do Rio travel agency page\; foreign participants must enter via official travel agency packages\; Brazil road-running rotation
LOCATION:Rio de Janeiro\, Brazil
URL:https://sportplan.vercel.app/de/events/maratona-do-rio-2026-travel-agencies-2026-06-03
END:VEVENT
END:VCALENDAR
