BEGIN:VCALENDAR
VERSION:2.0
PRODID:-//SportPlan//Event Calendar//EN
CALSCALE:GREGORIAN
BEGIN:VEVENT
UID:b3b30695-78d4-463f-9ccd-2ad8c6832c8d@sportplan.local
DTSTAMP:20260420T191335Z
DTSTART;VALUE=DATE:20260603
DTEND;VALUE=DATE:20260604
SUMMARY:Maratona do Rio 2026 (PT)
DESCRIPTION:Official Maratona do Rio Portuguese homepage\; confirmed 3-7 Jun 2026\; includes GoDream registration links for 42K+Desafio and general public\; Brazil road-running rotation
LOCATION:Rio de Janeiro\, Brazil
URL:https://sportplan.vercel.app/de/events/maratona-do-rio-2026-pt-2026-06-03
END:VEVENT
END:VCALENDAR
