BEGIN:VCALENDAR
VERSION:2.0
PRODID:-//SportPlan//Event Calendar//EN
CALSCALE:GREGORIAN
BEGIN:VEVENT
UID:9f677a93-4b38-4623-b5e9-918476905e36@sportplan.local
DTSTAMP:20260420T192016Z
DTSTART;VALUE=DATE:20260603
DTEND;VALUE=DATE:20260604
SUMMARY:Maratona do Rio 2026 – EN Homepage (canonical)
DESCRIPTION:Canonical EN URL for Maratona do Rio 2026\; redirected from main domain\; confirms 3-7 Jun 2026\; 'biggest street race festival in Latin America'\; Brazil road running rotation
LOCATION:Rio de Janeiro\, Brazil
URL:https://sportplan.vercel.app/de/events/maratona-do-rio-2026-en-homepage-canonical-2026-06-03
END:VEVENT
END:VCALENDAR
