BEGIN:VCALENDAR
VERSION:2.0
PRODID:-//SportPlan//Event Calendar//EN
CALSCALE:GREGORIAN
BEGIN:VEVENT
UID:9aa10cbd-a242-4bb8-9491-95ded02a4bdd@sportplan.local
DTSTAMP:20260420T222357Z
DTSTART;VALUE=DATE:20260705
DTEND;VALUE=DATE:20260706
SUMMARY:Maratona Dles Dolomites 2026
DESCRIPTION:Maratona Dles Dolomites 2026 si terrà il 5 luglio 2026 a La Villa\, Trentino-Alto Adige. È un appuntamento ideale per chi cerca una gara ben organizzata con un percorso di 138 km e un'atmosfera sportiva coinvolgente. Partecipare a questo evento è un'ottima occasione per godersi il percorso\, porsi un obiettivo personale e condividere la giornata con altri runner.
LOCATION:La Villa\, Trentino-Alto Adige
URL:https://sportplan.vercel.app/de/events/maratona-dles-dolomites-2026-la-villa-2026-07-05
END:VEVENT
END:VCALENDAR
