BEGIN:VCALENDAR
VERSION:2.0
PRODID:-//SportPlan//Event Calendar//EN
CALSCALE:GREGORIAN
BEGIN:VEVENT
UID:9307dec1-3402-4100-913a-ffc77d97a142@sportplan.local
DTSTAMP:20260420T234607Z
DTSTART;VALUE=DATE:20261108
DTEND;VALUE=DATE:20261109
SUMMARY:Maratona di Torino 2026
DESCRIPTION:Maratona di Torino 2026 si terrà il 8 novembre 2026 presso Turin\, Piemonte. È un buon appuntamento per chi vuole vivere l'evento dal vivo e organizzare la giornata in anticipo. La sede indicata si trova a circa 42.2 km\, quindi conviene controllare accessi\, orari e servizi prima di partire.
LOCATION:Turin\, Piemonte
URL:https://sportplan.vercel.app/de/events/maratona-di-torino-2026-turin-2026-11-08
END:VEVENT
END:VCALENDAR
