BEGIN:VCALENDAR
VERSION:2.0
PRODID:-//SportPlan//Event Calendar//EN
CALSCALE:GREGORIAN
BEGIN:VEVENT
UID:719664a7-9322-40b1-8c9d-ef7ccd1b2f0f@sportplan.local
DTSTAMP:20260420T234607Z
DTSTART;VALUE=DATE:20261101
DTEND;VALUE=DATE:20261102
SUMMARY:Maratona di Torino 2026
DESCRIPTION:Maratona di Torino 2026 si terrà il 2026-11-01 a Turin\, Piemonte. Con una distanza di circa 42.2 km\, l’evento è ideale sia per chi cerca una nuova sfida sia per chi desidera vivere una bella atmosfera sportiva. Un’ottima occasione per aggiungere un nuovo obiettivo al calendario e vivere una giornata attiva in un contesto speciale.
LOCATION:Turin\, Piemonte
URL:https://sportplan.vercel.app/de/events/maratona-di-torino-2026-turin-2026-11-01
END:VEVENT
END:VCALENDAR
